BEGIN:VCALENDAR
VERSION:2.0
PRODID:-//eventon.com NONSGML v1.0//EN
CALSCALE:GREGORIAN
METHOD:PUBLISH
BEGIN:VEVENT
UID:69ea408b3a5d0
DTSTAMP:20260423T155347Z
DTSTART:20261008T070000Z
DTEND:20261008T160000Z
LOCATION:World Trade Center Barcelona 1ª planta Edif. Este\,  Moll de Barcelona\,  s/n\,  08039 Barcelona
SUMMARY:Save the date - DIGITAL PROCUREMENT FORUM
DESCRIPTION:La digitalización está redefiniendo el papel de Compras dentr
 o de las organizaciones. Automatización\,  inteligencia artificial\,  anal
 ítica de datos… las herramientas están sobre la mesa. Pero el verdadero
  reto ya no es conocerlas\,  sino&nbsp;integrarlas con sentido estratégico
  y convertirlas en impacto real en el negocio. En un entorno cada vez más[
 ..]\nhttps://aerce.org/eventos/digital-procurement-forum/
URL:https://aerce.org/eventos/digital-procurement-forum/
END:VEVENT
END:VCALENDAR